BEGIN:VCALENDAR
VERSION:2.0
PRODID:DPCALENDAR
CALSCALE:GREGORIAN
BEGIN:VTIMEZONE
TZID:Europe/Paris
X-MICROSOFT-CDO-TZID:3
BEGIN:STANDARD
DTSTART:20251026T010000
TZOFFSETFROM:+0200
TZOFFSETTO:+0100
TZNAME:CET
END:STANDARD
BEGIN:DAYLIGHT
DTSTART:20260329T010000
TZOFFSETFROM:+0100
TZOFFSETTO:+0200
TZNAME:CEST
END:DAYLIGHT
BEGIN:STANDARD
DTSTART:20261025T010000
TZOFFSETFROM:+0200
TZOFFSETTO:+0100
TZNAME:CET
END:STANDARD
END:VTIMEZONE
X-WR-TIMEZONE:Europe/Paris
BEGIN:VEVENT
DTSTART;TZID=Europe/Paris:20260421T203000
DTEND;TZID=Europe/Paris:20260421T221500
UID:apb5p7rd2mmpij9saqivpr7u6k@google.com
RECURRENCE-ID:20260421T183000Z
SUMMARY:Foyer Bruz
DTSTAMP:20250210T201755Z
DESCRIPTION:Pour vous qui habitez au sud ouest de Rennes, ce foyer de croissance est pour vous !\NNous nous rencontrons le mardi soir toutes les deux semaines, par zoom.\NPour plus d’informations, contactez Jean -Marc au 0621394672.
X-ALT-DESC;FMTTYPE=text/html:Pour vous qui habitez au sud ouest de Rennes, ce foyer de croissance est pour vous !<br />Nous nous rencontrons le mardi soir toutes les deux semaines, par zoom.<br />Pour plus d’informations, contactez Jean -Marc au 0621394672.
LOCATION:
GEO:0.00000000;0.00000000
LAST-MODIFIED:20260228T193559Z
X-ACCESS:1
X-HITS:0
X-URL:
X-COLOR:ff9d03
END:VEVENT
END:VCALENDAR