BEGIN:VCALENDAR
VERSION:2.0
PRODID:DPCALENDAR
CALSCALE:GREGORIAN
BEGIN:VTIMEZONE
TZID:Europe/Paris
X-MICROSOFT-CDO-TZID:3
BEGIN:STANDARD
DTSTART:20251026T010000
TZOFFSETFROM:+0200
TZOFFSETTO:+0100
TZNAME:CET
END:STANDARD
BEGIN:DAYLIGHT
DTSTART:20260329T010000
TZOFFSETFROM:+0100
TZOFFSETTO:+0200
TZNAME:CEST
END:DAYLIGHT
BEGIN:STANDARD
DTSTART:20261025T010000
TZOFFSETFROM:+0200
TZOFFSETTO:+0100
TZNAME:CET
END:STANDARD
END:VTIMEZONE
X-WR-TIMEZONE:Europe/Paris
BEGIN:VEVENT
DTSTART;TZID=Europe/Paris:20260422T190000
DTEND;TZID=Europe/Paris:20260422T210000
UID:3vssl0fiou9cesqo8ctn6bqseo@google.com
SUMMARY:Groupe des jeunes Adultes
DTSTAMP:20260327T172203Z
DESCRIPTION:
X-ALT-DESC;FMTTYPE=text/html:
LOCATION:1 Avenue de l'Abbé Brocardi\, 34250 Palavas-les-Flots\, Occitanie\, France
GEO:43.53214620;3.92754300
LAST-MODIFIED:20260327T172203Z
X-ACCESS:1
X-HITS:0
X-URL:
X-COLOR:ff9d03
END:VEVENT
END:VCALENDAR