BEGIN:VCALENDAR
VERSION:2.0
PRODID:DPCALENDAR
CALSCALE:GREGORIAN
BEGIN:VTIMEZONE
TZID:Europe/Paris
X-MICROSOFT-CDO-TZID:3
BEGIN:STANDARD
DTSTART:20251026T010000
TZOFFSETFROM:+0200
TZOFFSETTO:+0100
TZNAME:CET
END:STANDARD
BEGIN:DAYLIGHT
DTSTART:20260329T010000
TZOFFSETFROM:+0100
TZOFFSETTO:+0200
TZNAME:CEST
END:DAYLIGHT
BEGIN:STANDARD
DTSTART:20261025T010000
TZOFFSETFROM:+0200
TZOFFSETTO:+0100
TZNAME:CET
END:STANDARD
END:VTIMEZONE
X-WR-TIMEZONE:Europe/Paris
BEGIN:VEVENT
DTSTART;TZID=Europe/Paris:20260423T193000
DTEND;TZID=Europe/Paris:20260423T213000
UID:3rs48o52k7ro0ekbs0lt4kubv9@google.com
SUMMARY:Foyer Sud Gare
DTSTAMP:20260327T172319Z
DESCRIPTION:Etude biblique\N\NPour vous qui habitez Rennes, entre la Vilaine au nord et la Rocade au sud, ce foyer de croissance est pour vous !\NNous nous rencontrons le jeudi soir, alternativement chez Blandine et chez Gillian\NPour plus d’informations, contactez Stéphanie.
X-ALT-DESC;FMTTYPE=text/html:Etude biblique<br /><br />Pour vous qui habitez Rennes, entre la Vilaine au nord et la Rocade au sud, ce foyer de croissance est pour vous !<br />Nous nous rencontrons le jeudi soir, alternativement chez Blandine et chez Gillian<br />Pour plus d’informations, contactez Stéphanie.
LOCATION:
GEO:0.00000000;0.00000000
LAST-MODIFIED:20260327T172319Z
X-ACCESS:1
X-HITS:0
X-URL:
X-COLOR:ff9d03
END:VEVENT
END:VCALENDAR