BEGIN:VCALENDAR
VERSION:2.0
PRODID:DPCALENDAR
CALSCALE:GREGORIAN
BEGIN:VTIMEZONE
TZID:Europe/Paris
X-MICROSOFT-CDO-TZID:3
BEGIN:STANDARD
DTSTART:20251026T010000
TZOFFSETFROM:+0200
TZOFFSETTO:+0100
TZNAME:CET
END:STANDARD
BEGIN:DAYLIGHT
DTSTART:20260329T010000
TZOFFSETFROM:+0100
TZOFFSETTO:+0200
TZNAME:CEST
END:DAYLIGHT
BEGIN:STANDARD
DTSTART:20261025T010000
TZOFFSETFROM:+0200
TZOFFSETTO:+0100
TZNAME:CET
END:STANDARD
END:VTIMEZONE
X-WR-TIMEZONE:Europe/Paris
BEGIN:VEVENT
DTSTART;TZID=Europe/Paris:20260424T203000
DTEND;TZID=Europe/Paris:20260424T220000
UID:3etn46mbkvm0pur15koq6ftucn@google.com
RECURRENCE-ID:20260424T183000Z
SUMMARY:Foyer Nord-Ouest
DTSTAMP:20260129T143240Z
DESCRIPTION:Pour vous qui habitez au nord ouest de Rennes (Villejean, Maurepas,...) et de sa banlieue (Pacé, St Grégoire,...) même lointaine, ce foyer de croissance est pour vous !\NNous nous rencontrons le vendredi soir toutes les deux semaines.\NPour plus d'informations, contactez Polynice.\N \NLien visioconférence : \N\Nmot de passe :
X-ALT-DESC;FMTTYPE=text/html:Pour vous qui habitez au nord ouest de Rennes (Villejean, Maurepas,...) et de sa banlieue (Pacé, St Grégoire,...) même lointaine, ce foyer de croissance est pour vous !<br />Nous nous rencontrons le vendredi soir toutes les deux semaines.<br />Pour plus d&#39;informations, contactez Polynice.<br /> <br />Lien visioconférence : <br /><br />mot de passe :
LOCATION:11611 East 58th Street\, 74146 Tulsa\, Oklahoma\, États-Unis
GEO:36.07950820;-95.84685040
LAST-MODIFIED:20260217T094333Z
X-ACCESS:1
X-HITS:0
X-URL:
X-COLOR:ff9d03
END:VEVENT
END:VCALENDAR