BEGIN:VCALENDAR
VERSION:2.0
PRODID:DPCALENDAR
CALSCALE:GREGORIAN
BEGIN:VTIMEZONE
TZID:Europe/Paris
X-MICROSOFT-CDO-TZID:3
BEGIN:STANDARD
DTSTART:20251026T010000
TZOFFSETFROM:+0200
TZOFFSETTO:+0100
TZNAME:CET
END:STANDARD
BEGIN:DAYLIGHT
DTSTART:20260329T010000
TZOFFSETFROM:+0100
TZOFFSETTO:+0200
TZNAME:CEST
END:DAYLIGHT
BEGIN:STANDARD
DTSTART:20261025T010000
TZOFFSETFROM:+0200
TZOFFSETTO:+0100
TZNAME:CET
END:STANDARD
END:VTIMEZONE
X-WR-TIMEZONE:Europe/Paris
BEGIN:VEVENT
DTSTART;TZID=Europe/Paris:20260418T143000
DTEND;TZID=Europe/Paris:20260418T160000
UID:08sr67khnt15bde171gcn035aa@google.com
SUMMARY:Rencontre des ados
DTSTAMP:20260408T074304Z
DESCRIPTION:
X-ALT-DESC;FMTTYPE=text/html:
LOCATION:11 Rue de la Sauvaie\, 35000 Rennes\, Bretagne\, France
GEO:48.09449190;-1.63386940
LAST-MODIFIED:20260408T074304Z
X-ACCESS:1
X-HITS:0
X-URL:
X-COLOR:ff9d03
END:VEVENT
END:VCALENDAR